BEGIN:VCALENDAR
X-WR-TIMEZONE:Europe/Berlin
X-WR-CALNAME:rbb-Kalender
VERSION:2.0
METHOD:PUBLISH
CALSCALE:GREGORIAN
PRODID:rbb-CMS DAY
BEGIN:VEVENT
CLASS:PUBLIC
URL:http://www.rbb-online.de/content/rbb/rbb/kessler/expeditionen/mit-dem-roller-an-der-donau/roller-donau3.html
DTEND:20130823T201500
DTSTART:20130823T201500
UID:/content/rbb/rbb/kessler/expeditionen/mit-dem-roller-an-der-donau/roller-donau3
DTSTAMP:20140405T005305
DESCRIPTION:In der dritten und vierten Folge seiner Donau-Expedition rollert Michael Kessler über die Grenze von Österreich nach Deutschland. Passau, Regensburg und Ulm sind die Stationen, es geht entlang am Rande des Schwarzwaldes und bis tief hinein ins Schwabenland. Immer Richtung Quelle der Donau.\n
SUMMARY:Mit dem Roller an der Donau (3)
END:VEVENT
END:VCALENDAR
