BEGIN:VCALENDAR
X-WR-TIMEZONE:Europe/Berlin
X-WR-CALNAME:rbb-Kalender
VERSION:2.0
METHOD:PUBLISH
CALSCALE:GREGORIAN
PRODID:rbb-CMS DAY
BEGIN:VEVENT
CLASS:PUBLIC
URL:http://www.rbb-online.de/content/rbb/rbb/kessler/expeditionen/schiene/unterwegs_schiene_3.html
DTEND:20130614T201500
DTSTART:20130614T201500
UID:/content/rbb/rbb/kessler/expeditionen/schiene/unterwegs_schiene_3
DTSTAMP:20140405T010040
DESCRIPTION:Im dritten Teil von Michael Kesslers Expedition auf der Schiene geht es vom Bodensee über Köln bis nach Amsterdam. In Konstanz eröffnen sich dem Flüchtigen ganz neue Karrieremöglichkeiten. Eine Laienspielgruppe aus der Pfalz stellt ihm eine Rolle in ihrem neuesten Stück in Aussicht. Allerdings erst nach erfolgreichem Casting ...\n
SUMMARY:Unterwegs auf der Schiene (3/4)
END:VEVENT
END:VCALENDAR
