BEGIN:VCALENDAR
X-WR-TIMEZONE:Europe/Berlin
X-WR-CALNAME:rbb-Kalender
VERSION:2.0
METHOD:PUBLISH
CALSCALE:GREGORIAN
PRODID:rbb-CMS DAY
BEGIN:VEVENT
CLASS:PUBLIC
URL:http://www.rbb-online.de/content/rbb/rbb/kessler/expeditionen/schiene/unterwegs_schiene_4.html
DTEND:20130621T201500
DTSTART:20130621T201500
UID:/content/rbb/rbb/kessler/expeditionen/schiene/unterwegs_schiene_4
DTSTAMP:20140405T005839
DESCRIPTION:Vor Michael Kessler liegt der vierte und letzte Abschnitt seiner langen Flucht. Eine TV-Karriere in Holland zu versuchen, war doch keine so gute Idee, meint Kessler. Und so lässt er den Zufall entscheiden, wohin es von Amsterdam aus weitergeht.\n
SUMMARY:Unterwegs auf der Schiene (4/4)
END:VEVENT
END:VCALENDAR
