BEGIN:VCALENDAR
X-WR-TIMEZONE:Europe/Berlin
X-WR-CALNAME:rbb-Kalender
VERSION:2.0
METHOD:PUBLISH
CALSCALE:GREGORIAN
PRODID:rbb-CMS DAY
BEGIN:VEVENT
CLASS:PUBLIC
URL:http://www.rbb-online.de/content/rbb/rbb/klartext/archiv/20130918_2215/eine-bruecke-ins-nirgendwo.html
DTEND:20130918T224500
DTSTART:20130918T221500
UID:/content/rbb/rbb/klartext/archiv/20130918_2215/eine-bruecke-ins-nirgendwo
DTSTAMP:20140407T072316
DESCRIPTION:400 Einwohner leben in Coschen an der deutsch-polnischen Grenze, rund 100 in Zytowan auf der anderen Seite der Neiße. Nun soll eine Brücke zwischen beiden Dörfern gebaut werden - für fünf Millionen Euro. Warum, weiß keiner so genau. Das scheint aber auch egal - schließlich bezahlt die EU den größten Teil.\n
SUMMARY:Eine Brücke ins Nirgendwo
END:VEVENT
END:VCALENDAR
