BEGIN:VCALENDAR
X-WR-TIMEZONE:Europe/Berlin
X-WR-CALNAME:rbb-Kalender
VERSION:2.0
METHOD:PUBLISH
CALSCALE:GREGORIAN
PRODID:rbb-CMS DAY
BEGIN:VEVENT
CLASS:PUBLIC
URL:http://www.rbb-online.de/content/rbb/rbb/klartext/archiv/20130918_2215/fall-roter-adler.html
DTEND:20130918T224500
DTSTART:20130918T221500
UID:/content/rbb/rbb/klartext/archiv/20130918_2215/fall-roter-adler
DTSTAMP:20140407T072336
DESCRIPTION:Über das Wappentier im Plenarsaal des neuen Landtags in Potsdam gibt es heftigen Streit. Denn der Adler ist nicht rot, sondern weiß. KLARTEXT mit Lösungsvorschlägen.\n\n\n
SUMMARY:Roter Adler – warum die CDU im Brandenburger Landtag für "rot" kämpft
END:VEVENT
END:VCALENDAR
