BEGIN:VCALENDAR
X-WR-TIMEZONE:Europe/Berlin
X-WR-CALNAME:rbb-Kalender
VERSION:2.0
METHOD:PUBLISH
CALSCALE:GREGORIAN
PRODID:rbb-CMS DAY
BEGIN:VEVENT
CLASS:PUBLIC
URL:http://www.rbb-online.de/content/rbb/rbb/klartext/archiv/20130918_2215/warum-das-schaerfste-spielhallengesetz-der-republik-scheitert.html
DTEND:20130918T224500
DTSTART:20130918T221500
UID:/content/rbb/rbb/klartext/archiv/20130918_2215/warum-das-schaerfste-spielhallengesetz-der-republik-scheitert
DTSTAMP:20140407T072322
DESCRIPTION:Berlin hat inzwischen das schärfste Spielhallengesetz in Deutschland. Doch die strengen Auflagen bringen nur wenig - die Zahl der Spielsüchtigen in der Hauptstadt wächst und auch die Spielautomaten werden nicht weniger. Der neuste Trick der Spielautomaten-Aufsteller heißt nun „Cafe-Casinos":\n
SUMMARY:Abgezockt – warum das schärfste Spielhallen-Gesetz der Republik scheitert
END:VEVENT
END:VCALENDAR
