BEGIN:VCALENDAR
X-WR-TIMEZONE:Europe/Berlin
X-WR-CALNAME:rbb-Kalender
VERSION:2.0
METHOD:PUBLISH
CALSCALE:GREGORIAN
PRODID:rbb-CMS DAY
BEGIN:VEVENT
CLASS:PUBLIC
URL:http://www.rbb-online.de/content/rbb/rbb/klartext/archiv/20130918_2215/warum-die-energiewende-kleine-betriebe-in-den-ruin-treibt.html
DTEND:20130918T224500
DTSTART:20130918T221500
UID:/content/rbb/rbb/klartext/archiv/20130918_2215/warum-die-energiewende-kleine-betriebe-in-den-ruin-treibt
DTSTAMP:20140407T072358
DESCRIPTION:Der Strom wird teurer. Und immer mehr kleine und mittlere Betriebe in Brandenburg sehen sich in ihrer Existenz bedroht. Schuld daran sei der teure Ökostrom, sagen die Energiekonzerne. KLARTEXT zeigt die Hintergründe\n
SUMMARY:Hohe Strompreise – warum die Energiewende kleine Betriebe in Brandenburg in den Ruin treibt 
END:VEVENT
END:VCALENDAR
