BEGIN:VCALENDAR
X-WR-TIMEZONE:Europe/Berlin
X-WR-CALNAME:rbb-Kalender
VERSION:2.0
METHOD:PUBLISH
CALSCALE:GREGORIAN
PRODID:rbb-CMS DAY
BEGIN:VEVENT
CLASS:PUBLIC
URL:http://www.rbb-online.de/content/rbb/rbb/klartext/archiv/20130918_2215/wem-gehoert-die-stadt.html
DTEND:20130918T224500
DTSTART:20130918T221500
UID:/content/rbb/rbb/klartext/archiv/20130918_2215/wem-gehoert-die-stadt
DTSTAMP:20140407T072350
DESCRIPTION:Vor rund 30 Jahren kaufte Herr Mühlenhaupt drei kleine Häuser an der Berliner Yorckstraße. Zwei davon hat er vermietet - an eine Kneipe und einen Spätkauf - und im dritten wohnt er selbst. Doch das Grundstück, auf dem die Häuser stehen, gehört inzwischen einem Investor. Und der verlangt jetzt, dass Herr Mühlenhaupt auszieht - am besten sofort! - und seine Häuser abreißt.\n
SUMMARY:Wem gehört die Stadt? 
END:VEVENT
END:VCALENDAR
