BEGIN:VCALENDAR
X-WR-TIMEZONE:Europe/Berlin
X-WR-CALNAME:rbb-Kalender
VERSION:2.0
METHOD:PUBLISH
CALSCALE:GREGORIAN
PRODID:rbb-CMS DAY
BEGIN:VEVENT
CLASS:PUBLIC
URL:http://www.rbb-online.de/content/rbb/rbb/klartext/archiv/20131009_2215/junge-spanier-fuer-alte-deutsche.html
DTEND:20131009T224500
DTSTART:20131009T221500
UID:/content/rbb/rbb/klartext/archiv/20131009_2215/junge-spanier-fuer-alte-deutsche
DTSTAMP:20140407T072703
DESCRIPTION:Qualifizierte Altenpfleger aus dem Ausland für deutsche Senioren zu gewinnen - das versucht die Bundesagentur für Arbeit und das wollen auch immer mehr Pflegedienstanbieter. Doch die deutsche Willkommenskultur steckt offenbar noch in den Kinderschuhen: Sprachprobleme, kulturelle Differenzen und die deutsche Bürokratie machen es jungen Spaniern schwer in Deutschland Fuß zu fassen.\n\n\n
SUMMARY:Junge Spanier für alte Deutsche - engagierte Altenpfleger in den Mühlen deutscher Bürokratie
END:VEVENT
END:VCALENDAR
