BEGIN:VCALENDAR
X-WR-TIMEZONE:Europe/Berlin
X-WR-CALNAME:rbb-Kalender
VERSION:2.0
METHOD:PUBLISH
CALSCALE:GREGORIAN
PRODID:rbb-CMS DAY
BEGIN:VEVENT
CLASS:PUBLIC
URL:http://www.rbb-online.de/content/rbb/rbb/klartext/archiv/20131009_2215/kein-platz-fuer-asylbewerber.html
DTEND:20131009T224500
DTSTART:20131009T221500
UID:/content/rbb/rbb/klartext/archiv/20131009_2215/kein-platz-fuer-asylbewerber
DTSTAMP:20140407T072711
DESCRIPTION:Seit zwei Jahren schießen die Asylbewerberzahlen regelrecht in die Höhe, die Erstaufnahmestelle in Eisenhüttenstadt ist chronisch überfüllt. Eigentlich sollen Asylsuchende hier höchstens nur drei Monate bleiben und dann im Land Brandenburg verteilt werden. Doch viele Landkreise weigern sich einfach sie aufzunehmen.\n\n\n
SUMMARY:Kein Platz für Asylbewerber - Ignoranz in Brandenburger Landkreisen
END:VEVENT
END:VCALENDAR
