BEGIN:VCALENDAR
X-WR-TIMEZONE:Europe/Berlin
X-WR-CALNAME:rbb-Kalender
VERSION:2.0
METHOD:PUBLISH
CALSCALE:GREGORIAN
PRODID:rbb-CMS DAY
BEGIN:VEVENT
CLASS:PUBLIC
URL:http://www.rbb-online.de/content/rbb/rbb/klartext/archiv/20131023_2215/mietpreisbremse-wahlgeschenk-ohne-wert.html
DTEND:20131023T224500
DTSTART:20131023T221500
UID:/content/rbb/rbb/klartext/archiv/20131023_2215/mietpreisbremse-wahlgeschenk-ohne-wert
DTSTAMP:20140407T072242
DESCRIPTION:Mit der neuen Bundesregierung wird die Mietpreisbremse wohl kommen. Die Berliner Politik hatte ohnehin schon lange dafür gekämpft. Bei der Neuvermietung von Wohnungen könnten Vermieter dann künftig nicht mehr nehmen, was der Markt eigentlich hergeben würde. Klingt eigentlich gut, doch: Werden damit die Mieten in Berlin tatsächlich bezahlbarer?\n\n\n
SUMMARY:Mietpreisbremse - Wahlgeschenk ohne Wert?
END:VEVENT
END:VCALENDAR
