BEGIN:VCALENDAR
X-WR-TIMEZONE:Europe/Berlin
X-WR-CALNAME:rbb-Kalender
VERSION:2.0
METHOD:PUBLISH
CALSCALE:GREGORIAN
PRODID:rbb-CMS DAY
BEGIN:VEVENT
CLASS:PUBLIC
URL:http://www.rbb-online.de/content/rbb/rbb/klartext/archiv/20131023_2215/windkraft-spaltet.html
DTEND:20131023T224500
DTSTART:20131023T221500
UID:/content/rbb/rbb/klartext/archiv/20131023_2215/windkraft-spaltet
DTSTAMP:20140407T072255
DESCRIPTION:Sonne, Wind und Scherereien - eine Gemeinde versucht die Energiewende im Kleinen. Rehfelde will grün werden, seinen eigenen Öko-Strom produzieren und ihn dann günstig an seine Bürger verkaufen. Doch die Energiewende stellt einen 4.500-Einwohner-Ort vor eine Zerreißprobe.\n\n\n
SUMMARY:Windkraft spaltet - ein Dorf im Streit über selbstproduzierten Strom
END:VEVENT
END:VCALENDAR
