BEGIN:VCALENDAR
X-WR-TIMEZONE:Europe/Berlin
X-WR-CALNAME:rbb-Kalender
VERSION:2.0
METHOD:PUBLISH
CALSCALE:GREGORIAN
PRODID:rbb-CMS DAY
BEGIN:VEVENT
CLASS:PUBLIC
URL:http://www.rbb-online.de/content/rbb/rbb/klartext/archiv/20131106_2215/charite-tochter-unter-verdacht.html
DTEND:20131106T224500
DTSTART:20131106T221500
UID:/content/rbb/rbb/klartext/archiv/20131106_2215/charite-tochter-unter-verdacht
DTSTAMP:20140407T072617
DESCRIPTION:Seit der Ausgründung der Charité-Tochter CFM herrscht Streit: Zuerst kämpften die Mitarbeiter monatelang gegen Billiglöhne, jetzt besteht der Verdacht, dass die Geschäftsführung der CFM Betriebsräte durch Lohnerhöhungen unzulässig beeinflusst hat.\n\n\n
SUMMARY:Charité-Tochter unter Verdacht: Hat die CFM Betriebsräte unzulässig beeinflusst?
END:VEVENT
END:VCALENDAR
