BEGIN:VCALENDAR
X-WR-TIMEZONE:Europe/Berlin
X-WR-CALNAME:rbb-Kalender
VERSION:2.0
METHOD:PUBLISH
CALSCALE:GREGORIAN
PRODID:rbb-CMS DAY
BEGIN:VEVENT
CLASS:PUBLIC
URL:http://www.rbb-online.de/content/rbb/rbb/klartext/archiv/20131106_2215/neues-gesetz-gegen-ferienwohnungen.html
DTEND:20131106T224500
DTSTART:20131106T221500
UID:/content/rbb/rbb/klartext/archiv/20131106_2215/neues-gesetz-gegen-ferienwohnungen
DTSTAMP:20140407T072550
DESCRIPTION:Lärmende Touristen nehmen angeblich den Berlinern die Wohnungen weg. Doch damit soll jetzt Schluss sein: Ein neues Gesetz soll die Umwandlung von Miet- in Ferienwohnungen künftig verhindern. Doch was auf den ersten Blick gut gemeint ist, entpuppt sich beim zweiten als unbeherrschbares Bürokratie-Monster.\n\n\n
SUMMARY:Bürokratie-Monster: Neues Gesetz gegen Ferienwohnungen
END:VEVENT
END:VCALENDAR
