BEGIN:VCALENDAR
X-WR-TIMEZONE:Europe/Berlin
X-WR-CALNAME:rbb-Kalender
VERSION:2.0
METHOD:PUBLISH
CALSCALE:GREGORIAN
PRODID:rbb-CMS DAY
BEGIN:VEVENT
CLASS:PUBLIC
URL:http://www.rbb-online.de/content/rbb/rbb/klartext/archiv/20131106_2215/nsa-affaere-grenzen-der-strafverfolgung.html
DTEND:20131106T224500
DTSTART:20131106T221500
UID:/content/rbb/rbb/klartext/archiv/20131106_2215/nsa-affaere-grenzen-der-strafverfolgung
DTSTAMP:20140407T072628
DESCRIPTION:Die Kanzlerin ist empört! Der US-Präsident angeblich beschämt! Und die Aufregung im politischen Berlin ist nach wie vor groß. Aber welche Konsequenzen werden aus der Abhöraffäre gezogen? Was macht die Staatsanwaltschaft? KLARTEXT fragt nach.\n\n\n
SUMMARY:NSA-Affäre und weiter? Grenzen der Strafverfolgung
END:VEVENT
END:VCALENDAR
