BEGIN:VCALENDAR
X-WR-TIMEZONE:Europe/Berlin
X-WR-CALNAME:rbb-Kalender
VERSION:2.0
METHOD:PUBLISH
CALSCALE:GREGORIAN
PRODID:rbb-CMS DAY
BEGIN:VEVENT
CLASS:PUBLIC
URL:http://www.rbb-online.de/content/rbb/rbb/klartext/archiv/20131120_2215/energiewende-im-osten-teurer-als-im-westen.html
DTEND:20131120T224500
DTSTART:20131120T221500
UID:/content/rbb/rbb/klartext/archiv/20131120_2215/energiewende-im-osten-teurer-als-im-westen
DTSTAMP:20140407T072515
DESCRIPTION:Die Energiewende bezahlt der Verbraucher, so heißt es immer. Doch nicht alle Verbraucher sind gleich. Den Osten Deutschlands kommt die Energiewende teurer zu stehen.\n\n\n
SUMMARY:Energiewende - Im Osten teurer als im Westen
END:VEVENT
END:VCALENDAR
