BEGIN:VCALENDAR
X-WR-TIMEZONE:Europe/Berlin
X-WR-CALNAME:rbb-Kalender
VERSION:2.0
METHOD:PUBLISH
CALSCALE:GREGORIAN
PRODID:rbb-CMS DAY
BEGIN:VEVENT
CLASS:PUBLIC
URL:http://www.rbb-online.de/content/rbb/rbb/klartext/archiv/20131120_2215/junge-israelis-engagieren-sich-im-land-der-taeter.html
DTEND:20131120T224500
DTSTART:20131120T221500
UID:/content/rbb/rbb/klartext/archiv/20131120_2215/junge-israelis-engagieren-sich-im-land-der-taeter
DTSTAMP:20140407T072541
DESCRIPTION:Seit Jahrzehnten gehen Deutsche mit Freiwilligendiensten nach Israel, um dort zu mit anzupacken - häufig auch, um damit ein Zeichen gegen die Verbrechen Nazi-Deutschlands zu setzen. Doch inzwischen kommen auch junge Israelis nach Deutschland, um hier gemeinnützig zu arbeiten. Darunter selbst solche, deren Großeltern viel Leid in Deutschland erfahren mussten.\n\n\n
SUMMARY:Der Perspektivwechsel - junge Israelis engagieren sich im Land der Täter
END:VEVENT
END:VCALENDAR
