BEGIN:VCALENDAR
X-WR-TIMEZONE:Europe/Berlin
X-WR-CALNAME:rbb-Kalender
VERSION:2.0
METHOD:PUBLISH
CALSCALE:GREGORIAN
PRODID:rbb-CMS DAY
BEGIN:VEVENT
CLASS:PUBLIC
URL:http://www.rbb-online.de/content/rbb/rbb/klartext/archiv/20131120_2215/odersun-wenn-ein-minister-im-alleingang-entscheidet.html
DTEND:20131120T224500
DTSTART:20131120T221500
UID:/content/rbb/rbb/klartext/archiv/20131120_2215/odersun-wenn-ein-minister-im-alleingang-entscheidet
DTSTAMP:20140407T072450
DESCRIPTION:Es war eine Entscheidung im Alleingang und gegen den ausdrücklichen Rat seines Hauses, die der brandenburgische Wirtschaftsminister Ralf Christoffers Ende 2011 traf: Er genehmigte 3 Millionen Euro Fördergelder für die angeschlagene Odersun AG. Diese meldete nur sechs Wochen nach Erhalt des Geldes im Februar 2012 Insolvenz an. KLARTEXT liegen nun neue interessante Bewertungen des Handelns des Ministers vor.\n\n\n
SUMMARY:Odersun - wenn ein Minister im Alleingang entscheidet
END:VEVENT
END:VCALENDAR
