BEGIN:VCALENDAR
X-WR-TIMEZONE:Europe/Berlin
X-WR-CALNAME:rbb-Kalender
VERSION:2.0
METHOD:PUBLISH
CALSCALE:GREGORIAN
PRODID:rbb-CMS DAY
BEGIN:VEVENT
CLASS:PUBLIC
URL:http://www.rbb-online.de/content/rbb/rbb/klartext/archiv/20131204_2215/1.html
DTEND:20131204T224500
DTSTART:20131204T221500
UID:/content/rbb/rbb/klartext/archiv/20131204_2215/1
DTSTAMP:20140405T041727
DESCRIPTION:5,5 Millionen Euro - so viel sollte den Steuerzahler die neue Jugendarrestanstalt des Landes Brandenburg in Königs Wusterhausen kosten. Lange geplant, auch wenn die Jugendarrestzahlen in Brandenburg seit Jahren rückläufig sind und in Berlin genügend freie Plätze zur Verfügung stünden. Doch erst nachdem KLARTEXT nachfragte, besann sich Justizminister Schöneburg und lenkte ein.\n
SUMMARY:Späte Einsicht: Ein Knast in Brandenburg, den keiner braucht
END:VEVENT
END:VCALENDAR
