BEGIN:VCALENDAR
X-WR-TIMEZONE:Europe/Berlin
X-WR-CALNAME:rbb-Kalender
VERSION:2.0
METHOD:PUBLISH
CALSCALE:GREGORIAN
PRODID:rbb-CMS DAY
BEGIN:VEVENT
CLASS:PUBLIC
URL:http://www.rbb-online.de/content/rbb/rbb/klartext/archiv/20131204_2215/2.html
DTEND:20131204T224500
DTSTART:20131204T221500
UID:/content/rbb/rbb/klartext/archiv/20131204_2215/2
DTSTAMP:20140405T042942
DESCRIPTION:Ein Nachruf.\n\n\n
SUMMARY:Sie waren Berlin: Die Motorradstaffel der Polizei steht vor dem Aus
END:VEVENT
END:VCALENDAR
