BEGIN:VCALENDAR
X-WR-TIMEZONE:Europe/Berlin
X-WR-CALNAME:rbb-Kalender
VERSION:2.0
METHOD:PUBLISH
CALSCALE:GREGORIAN
PRODID:rbb-CMS DAY
BEGIN:VEVENT
CLASS:PUBLIC
URL:http://www.rbb-online.de/content/rbb/rbb/klartext/archiv/20131204_2215/4.html
DTEND:20131204T224500
DTSTART:20131204T221500
UID:/content/rbb/rbb/klartext/archiv/20131204_2215/4
DTSTAMP:20140405T043019
DESCRIPTION:Nach der Wende hofften viele LPG-Bauern, dass sie nun endlich wieder selbst über ihre Äcker bestimmen dürfen. Doch bei der Umwandlung der Genossenschaften wurden offensichtlich viele um ihr Recht betrogen. Die neuen Herren waren nicht selten die alten „Roten Barone".  Die Politik sah dem Treiben tatenlos zu und förderte die neuen Großgrundbesitzer mit Millionen an Subventionen. Dabei hätte das Landwirtschaftsministerium schon lange prüfen müssen, ob die LPG-Nachfolgebetriebe überhaupt rechtmäßig entstanden sind.\n\n\n
SUMMARY:Betrogen und belogen: Ehemalige LPG-Bauern hoffen auf Gerechtigkeit
END:VEVENT
END:VCALENDAR
