BEGIN:VCALENDAR
X-WR-TIMEZONE:Europe/Berlin
X-WR-CALNAME:rbb-Kalender
VERSION:2.0
METHOD:PUBLISH
CALSCALE:GREGORIAN
PRODID:rbb-CMS DAY
BEGIN:VEVENT
CLASS:PUBLIC
URL:http://www.rbb-online.de/content/rbb/rbb/klartext/archiv/20140115_2215/letzter-ausweg-eizellentourismus.html
DTEND:20140115T224500
DTSTART:20140115T221500
UID:/content/rbb/rbb/klartext/archiv/20140115_2215/letzter-ausweg-eizellentourismus
DTSTAMP:20140405T042901
DESCRIPTION:Die Zahl der Frauen, die mit über 40 noch Kinder bekommen wollen, wächst in Deutschland. Doch die Fruchtbarkeit nimmt mit dem Alter drastisch ab, viele Frauen können gar keine Kinder mehr bekommen. Eizellenspenden böten eine Lösung – medizinisch unproblematisch, jedoch nach deutschem Recht seit 24 Jahren verboten. Und so setzt eine Art "Befruchtungstourismus" ins Ausland ein. Die Politik scheint daran nichts ändern zu wollen, doch ist dieses Verbot noch zeitgemäß?\n\n\n\n\n
SUMMARY:Unerfüllter Kinderwunsch - letzter Ausweg Eizellentourismus? 
END:VEVENT
END:VCALENDAR
