BEGIN:VCALENDAR
X-WR-TIMEZONE:Europe/Berlin
X-WR-CALNAME:rbb-Kalender
VERSION:2.0
METHOD:PUBLISH
CALSCALE:GREGORIAN
PRODID:rbb-CMS DAY
BEGIN:VEVENT
CLASS:PUBLIC
URL:http://www.rbb-online.de/content/rbb/rbb/klartext/archiv/20140129_2215/berliner-polizei-errichtet-sonderzonen.html
DTEND:20140129T224500
DTSTART:20140129T221500
UID:/content/rbb/rbb/klartext/archiv/20140129_2215/berliner-polizei-errichtet-sonderzonen
DTSTAMP:20140405T043051
DESCRIPTION:Nicht nur in Hamburg kann die Polizei "Gefahrenzonen" einrichten. Auch in Berlin gibt es rund 20 "kriminalitätsbelastete Orte". Diese Orte sind geheim und an diesen Orten genießen die Beamten Sonderrechte.\n\n\n
SUMMARY:Gewalt und die Folgen – Berliner Polizei errichtet "Sonderzonen"
END:VEVENT
END:VCALENDAR
