BEGIN:VCALENDAR
X-WR-TIMEZONE:Europe/Berlin
X-WR-CALNAME:rbb-Kalender
VERSION:2.0
METHOD:PUBLISH
CALSCALE:GREGORIAN
PRODID:rbb-CMS DAY
BEGIN:VEVENT
CLASS:PUBLIC
URL:http://www.rbb-online.de/content/rbb/rbb/klartext/archiv/20140129_2215/brandenburgs-wunderliche-foerderpolitik.html
DTEND:20140129T224500
DTSTART:20140129T221500
UID:/content/rbb/rbb/klartext/archiv/20140129_2215/brandenburgs-wunderliche-foerderpolitik
DTSTAMP:20140405T042921
DESCRIPTION:Ein Wirtschaftsminister legt sich ins Zeug und die landeseigene Bank ILB versäumt offenbar die genaue Überprüfung des Fördergeldempfängers. Nun sind 6,5 Millionen Steuergeld weg.\n\n\n
SUMMARY:Brandenburgs wunderliche Förderpolitik - Millionen Steuergelder für dubiose und vorbestrafte Betrüger
END:VEVENT
END:VCALENDAR
