BEGIN:VCALENDAR
X-WR-TIMEZONE:Europe/Berlin
X-WR-CALNAME:rbb-Kalender
VERSION:2.0
METHOD:PUBLISH
CALSCALE:GREGORIAN
PRODID:rbb-CMS DAY
BEGIN:VEVENT
CLASS:PUBLIC
URL:http://www.rbb-online.de/content/rbb/rbb/klartext/archiv/20140219_2215/tierquaelerei-im-tierheim-kremmen.html
DTEND:20140219T224500
DTSTART:20140219T221500
UID:/content/rbb/rbb/klartext/archiv/20140219_2215/tierquaelerei-im-tierheim-kremmen
DTSTAMP:20140405T041745
DESCRIPTION:Das Tierheim Kremmen präsentiert sich als Rettungsanker für Tiere. Insbesondere Hunden soll hier geholfen werden. Doch Tierärzte, ehemalige Mitarbeiter und Vertragspartner erzählen eine ganz andere Geschichte. Die Behörden sind informiert, doch der Betrieb läuft weiter, denn der Betreiber bestreitet alle Vorwürfe.\n\n\n
SUMMARY:Tierquälerei im Tierheim Kremmen?
END:VEVENT
END:VCALENDAR
