BEGIN:VCALENDAR
X-WR-TIMEZONE:Europe/Berlin
X-WR-CALNAME:rbb-Kalender
VERSION:2.0
METHOD:PUBLISH
CALSCALE:GREGORIAN
PRODID:rbb-CMS DAY
BEGIN:VEVENT
CLASS:PUBLIC
URL:http://www.rbb-online.de/content/rbb/rbb/klartext/archiv/20140305_2215/berliner-polizei-nachwuchssorgen-und-schlechte-ausstattung.html
DTEND:20140305T224500
DTSTART:20140305T221500
UID:/content/rbb/rbb/klartext/archiv/20140305_2215/berliner-polizei-nachwuchssorgen-und-schlechte-ausstattung
DTSTAMP:20140405T041914
DESCRIPTION:Immer weniger junge Berliner wollen zur Polizei: Zu schlecht erscheinen Karrierechancen, dazu kommen hohe Belastungen durch eine dünne Personaldecke und Gehälter, die erheblich unter dem Bundesdurchschnitt liegen. Schon jetzt zeigt die Statistik einen leichten Anstieg der Kriminalität - für die Gewerkschaft Ergebnis des schlechten Zustands der Polizei. Ist das nur das übliche gewerkschaftliche Klagelied - oder wird die innere Sicherheit Berlins auf dem Altar der Sparpolitik geopfert?\n\n\n
SUMMARY:Berliner Polizei - Nachwuchssorgen und schlechte Ausstattung 
END:VEVENT
END:VCALENDAR
