BEGIN:VCALENDAR
X-WR-TIMEZONE:Europe/Berlin
X-WR-CALNAME:rbb-Kalender
VERSION:2.0
METHOD:PUBLISH
CALSCALE:GREGORIAN
PRODID:rbb-CMS DAY
BEGIN:VEVENT
CLASS:PUBLIC
URL:http://www.rbb-online.de/content/rbb/rbb/klartext/archiv/klartext-04092013/grundstuecksaffaere-oranienburg.html
DTEND:20130904T224500
DTSTART:20130904T221500
UID:/content/rbb/rbb/klartext/archiv/klartext-04092013/grundstuecksaffaere-oranienburg
DTSTAMP:20140407T072018
DESCRIPTION:Vor zwei Wochen berichteten wir über einen mutmaßlichen Immobilienskandal, bei dem Land Brandenburg offenbar ein Millionen-Euro-Schaden entstanden ist. Es ging um den Verkauf der eines 65 h großen, landeseigenen Grundstücks im Gewerbegebiet Oranienburg. Weiterführende Recherchen beleuchten das Zustandekommen der Kaufverträge.\n
SUMMARY:Grundstücksaffäre Oranienburg - welche Rolle spielt das Finanzministerium?
END:VEVENT
END:VCALENDAR
