BEGIN:VCALENDAR
X-WR-TIMEZONE:Europe/Berlin
X-WR-CALNAME:rbb-Kalender
VERSION:2.0
METHOD:PUBLISH
CALSCALE:GREGORIAN
PRODID:rbb-CMS DAY
BEGIN:VEVENT
CLASS:PUBLIC
URL:http://www.rbb-online.de/content/rbb/rbb/klartext/archiv/klartext-04092013/sisyphos-im-goerlitzer-park.html
DTEND:20130904T224500
DTSTART:20130904T221500
UID:/content/rbb/rbb/klartext/archiv/klartext-04092013/sisyphos-im-goerlitzer-park
DTSTAMP:20140407T072000
DESCRIPTION:Die Berliner konsumieren geschätzte 3,6 Tonnen Heroin im Jahr, und auch beim Koksen sind sie in Deutschland Spitze. Und was ist die staatliche Antwort darauf? Razzien hier und da, plus die Verfolgung von Kleindealern wie im Görlitzer Park. Der Drogenhandel hat sich inzwischen so sehr professionalisiert, dass der Kampf kaum noch zu gewinnen ist. Ist begrenzte Legalisierung für weiche Drogen ein Ausweg\n
SUMMARY:Sisyphos am Görlitzer Park - Berlins vergeblicher Kampf gegen die Drogen
END:VEVENT
END:VCALENDAR
