BEGIN:VCALENDAR
X-WR-TIMEZONE:Europe/Berlin
X-WR-CALNAME:rbb-Kalender
VERSION:2.0
METHOD:PUBLISH
CALSCALE:GREGORIAN
PRODID:rbb-CMS DAY
BEGIN:VEVENT
CLASS:PUBLIC
URL:http://www.rbb-online.de/content/rbb/rbb/klartext/archiv/klartext-04092013/streit-um-asylbewerberheime.html
DTEND:20130904T224500
DTSTART:20130904T221500
UID:/content/rbb/rbb/klartext/archiv/klartext-04092013/streit-um-asylbewerberheime
DTSTAMP:20140407T071936
DESCRIPTION:Bewohner von sozial schwachen Gebieten wollen keine Asylbewerber vor der Haustür und Bewohner sozial starker Gebiete wollen ebenfalls keine Asylbewerber vor der Haustür. Was sind die Gründe für diese Ablehnung, die zuletzt die Flüchtlinge in Hellersdorf in Angst und Schrecken versetzte? Ist das alltäglicher Rassismus? Klartext sucht nach Antworten hinter den Parolen.\n
SUMMARY:Streit um Asylbewerberheime – Woher kommt der Fremdenhass?
END:VEVENT
END:VCALENDAR
