BEGIN:VCALENDAR
X-WR-TIMEZONE:Europe/Berlin
X-WR-CALNAME:rbb-Kalender
VERSION:2.0
METHOD:PUBLISH
CALSCALE:GREGORIAN
PRODID:rbb-CMS DAY
BEGIN:VEVENT
CLASS:PUBLIC
URL:http://www.rbb-online.de/content/rbb/rbb/klartext/archiv/klartext_vom_10_04/steigende_mieten_.html
DTEND:20130410T221500
DTSTART:20130410T221500
UID:/content/rbb/rbb/klartext/archiv/klartext_vom_10_04/steigende_mieten_
DTSTAMP:20140407T071834
DESCRIPTION:35 Jahre lang war die Kita "Klein und stark" in Kreuzberg eine Institution. Doch nun muss sie schließen: die Miete im boomenden Kiez hat sich verdreifacht! Immer mehr, vor allem kleinere Initiativkitas können sich die Mieten in Berliner Innenbezirken nicht mehr leisten. Die Zuschüsse des Senats reichen bei weitem nicht mehr aus. Und Ausweichimmobilien? - längst vom Senat an private Investoren verhökert.
SUMMARY:Steigende Mieten: Kindertagesstätten in den Innenstadtbezirken vor dem Aus
END:VEVENT
END:VCALENDAR
