BEGIN:VCALENDAR
X-WR-TIMEZONE:Europe/Berlin
X-WR-CALNAME:rbb-Kalender
VERSION:2.0
METHOD:PUBLISH
CALSCALE:GREGORIAN
PRODID:rbb-CMS DAY
BEGIN:VEVENT
CLASS:PUBLIC
URL:http://www.rbb-online.de/content/rbb/rbb/klartext/archiv/klartext_vom_22_05.html
DTEND:20130522T221500
DTSTART:20130522T221500
UID:/content/rbb/rbb/klartext/archiv/klartext_vom_22_05
DTSTAMP:20140406T064111
DESCRIPTION:+++ Ärzte unter Anklage - Wie die Staatsanwaltschaft Betrugsvorwürfen in DRK-Klinik nachgeht +++ Asylbewerber ohne Unterkunft - Wie sich die Bezirke um die Aufnahme der Flüchtlinge drücken +++ Bäume fällen ohne Vorankündigung - Wie Behörden Bürgerbeteiligung umgehen +++ Korruptionsverdacht bei Cottbuser Polizei III: Netzwerk durch alte Seilschaften +++\n\n\n
SUMMARY:Klartext vom 22.05.2013
END:VEVENT
END:VCALENDAR
