BEGIN:VCALENDAR
X-WR-TIMEZONE:Europe/Berlin
X-WR-CALNAME:rbb-Kalender
VERSION:2.0
METHOD:PUBLISH
CALSCALE:GREGORIAN
PRODID:rbb-CMS DAY
BEGIN:VEVENT
CLASS:PUBLIC
URL:http://www.rbb-online.de/content/rbb/rbb/klartext/archiv/klartext_vom_22_05/asylbewerber_ohne.html
DTEND:20130522T221500
DTSTART:20130522T221500
UID:/content/rbb/rbb/klartext/archiv/klartext_vom_22_05/asylbewerber_ohne
DTSTAMP:20140407T072108
DESCRIPTION:Die Zahl von Asylbewerbern in Berlin steigt weiter an. Senat und Bezirke streiten seit Monaten um die Unterbringung von Flüchtlingen. Senator Czaja will jetzt durchgreifen, auch gegen den Widerstand der Bezirke. Die führen gegen die Aufnahme der Asylbewerber das Baurecht ins Feld. \n
SUMMARY:Asylbewerber ohne Unterkunft - Wie sich die Bezirke um die Aufnahme der Flüchtlinge drücken
END:VEVENT
END:VCALENDAR
