BEGIN:VCALENDAR
X-WR-TIMEZONE:Europe/Berlin
X-WR-CALNAME:rbb-Kalender
VERSION:2.0
METHOD:PUBLISH
CALSCALE:GREGORIAN
PRODID:rbb-CMS DAY
BEGIN:VEVENT
CLASS:PUBLIC
URL:http://www.rbb-online.de/content/rbb/rbb/klartext/archiv/klartext_vom_24_04/frauen_und_quote_.html
DTEND:20130424T221500
DTSTART:20130424T221500
UID:/content/rbb/rbb/klartext/archiv/klartext_vom_24_04/frauen_und_quote_
DTSTAMP:20140407T071730
DESCRIPTION:Die Einführung einer gesetzlichen Frauenquote ist zwar gescheitert, der Kampf um mehr Macht für Frauen ist damit wohl aber kaum zu Ende. Ohnehin ist eine Quote für die Besetzung von Aufsichtsräten wahrscheinlich so wirkungsvoll, wie ein einzelner Regentropfen für die Bewässerung der Sahara. Was aber hat die Debatte um den höheren Pumps-Faktor in den Chefetagen gebracht? KLARTEXT fragt nach – von Frau zu Frau.
SUMMARY:Frauen und Quote - Eine unendliche Geschichte
END:VEVENT
END:VCALENDAR
