BEGIN:VCALENDAR
X-WR-TIMEZONE:Europe/Berlin
X-WR-CALNAME:rbb-Kalender
VERSION:2.0
METHOD:PUBLISH
CALSCALE:GREGORIAN
PRODID:rbb-CMS DAY
BEGIN:VEVENT
CLASS:PUBLIC
URL:http://www.rbb-online.de/content/rbb/rbb/klartext/ueber_den_tag_hinaus/Demografie/singlestadt.html
DTEND:20120411T221500
DTSTART:20120411T221500
UID:/content/rbb/rbb/klartext/ueber_den_tag_hinaus/Demografie/singlestadt
DTSTAMP:20140406T070321
DESCRIPTION:Überalterung, Landflucht, Verteilungskämpfe und immer weniger Kinder. Doch warum ist das eigentlich alles so? Was sind die Gründe, warum wir immer weniger Kinder bekommen, und was kann die Politik dagegen tun? Demografen sagen: fast nichts. Denn der demographische Wandel sei das Ergebnis eines tief greifenden Bewusstseinswandels der Menschen. Beobachtungen aus Berlin, der Single-Hauptstadt Deutschlands.
SUMMARY:Serie "Demographischer Wandel" (Teil V): Warum unsere Bevölkerung schrumpft - Auf Spurensuche in der Single-Hauptstadt Berlin
END:VEVENT
END:VCALENDAR
