BEGIN:VCALENDAR
X-WR-TIMEZONE:Europe/Berlin
X-WR-CALNAME:rbb-Kalender
VERSION:2.0
METHOD:PUBLISH
CALSCALE:GREGORIAN
PRODID:rbb-CMS DAY
BEGIN:VEVENT
CLASS:PUBLIC
URL:http://www.rbb-online.de/content/rbb/rbb/klartext/ueber_den_tag_hinaus/Demografie/speckguertel.html
DTEND:20120215T221500
DTSTART:20120215T221500
UID:/content/rbb/rbb/klartext/ueber_den_tag_hinaus/Demografie/speckguertel
DTSTAMP:20140406T065659
DESCRIPTION:Ein Häuschen fast in der Stadt und doch gleichzeitig auf dem Land, viel Grün und ein S-Bahn-Anschluss - der ideale Wohnort für junge Familien. So bildete sich rund um Berlin binnen weniger Jahre ein dicker Speckgürtel. Doch die Zugezogenen gehören fast alle zu ein und derselben Generation. Und die geht in 15 bis 20 Jahren geschlossen in Rente. Die Folge: Der demografische Wandel trifft das Berliner Umland im Zeitraffer.
SUMMARY:Serie "Demographischer Wandel" (Teil II): Die schwierige Zukunft des Speckgürtels: Wenn alle auf einen Schlag älter werden
END:VEVENT
END:VCALENDAR
