BEGIN:VCALENDAR
X-WR-TIMEZONE:Europe/Berlin
X-WR-CALNAME:rbb-Kalender
VERSION:2.0
METHOD:PUBLISH
CALSCALE:GREGORIAN
PRODID:rbb-CMS DAY
BEGIN:VEVENT
CLASS:PUBLIC
URL:http://www.rbb-online.de/content/rbb/rbb/klartext/ueber_den_tag_hinaus/Demografie/tatsaechlich_immer.html
DTEND:20130130T221500
DTSTART:20130130T221500
UID:/content/rbb/rbb/klartext/ueber_den_tag_hinaus/Demografie/tatsaechlich_immer
DTSTAMP:20140406T070732
DESCRIPTION:Eine viertel Million mehr Berliner soll es im Jahre 2030 geben, so prognostiziert es der Senat - und fragt sich: Wo sollen die alle wohnen? KLARTEXT hingegen fragt: 250.000 Menschen - wo sollen die eigentlich herkommen?\n
SUMMARY:Tatsächlich immer mehr Berliner? - Bevölkerungsprognose in der Kritik
END:VEVENT
END:VCALENDAR
