BEGIN:VCALENDAR
X-WR-TIMEZONE:Europe/Berlin
X-WR-CALNAME:rbb-Kalender
VERSION:2.0
METHOD:PUBLISH
CALSCALE:GREGORIAN
PRODID:rbb-CMS DAY
BEGIN:VEVENT
CLASS:PUBLIC
URL:http://www.rbb-online.de/content/rbb/rbb/klartext/ueber_den_tag_hinaus/bildung/besser_lernen_im_kindergarten.html
DTEND:20101110T221500
DTSTART:20101110T221500
UID:/content/rbb/rbb/klartext/ueber_den_tag_hinaus/bildung/besser_lernen_im_kindergarten
DTSTAMP:20140406T065330
DESCRIPTION:Mehr Geld gleich mehr Bildung? Nirgendwo in Deutschland wird soviel Geld für Kitas ausgegeben wie in Berlin. Mit frühkindlicher Bildung soll den Kindern ein besserer Schulstart gelingen. Doch zu größerer Bildungsgerechtigkeit hat das bislang nicht geführt.\n
SUMMARY:Besser lernen im Kindergarten: der Schlüssel zur Chancengleichheit?
END:VEVENT
END:VCALENDAR
