BEGIN:VCALENDAR
X-WR-TIMEZONE:Europe/Berlin
X-WR-CALNAME:rbb-Kalender
VERSION:2.0
METHOD:PUBLISH
CALSCALE:GREGORIAN
PRODID:rbb-CMS DAY
BEGIN:VEVENT
CLASS:PUBLIC
URL:http://www.rbb-online.de/content/rbb/rbb/klartext/ueber_den_tag_hinaus/bildung/trotz_pisa_nichts.html
DTEND:20040505T220500
DTSTART:20040505T220500
UID:/content/rbb/rbb/klartext/ueber_den_tag_hinaus/bildung/trotz_pisa_nichts
DTSTAMP:20140406T064942
DESCRIPTION:Vier Milliarden Euro hat Bundesbildungsministerin Bulmahn nach der PISA-Pleite für das Projekt "gebundene Ganztagsschule" zur Verfügung gestellt. In Berlin ist davon kaum etwas zu spüren, das Geld wurde genutzt um die Löcher im Schuletat zu stopfen.
SUMMARY:Trotz PISA nichts gelernt – Wo sind die Millionen für die Ganztagsschulen geblieben?
END:VEVENT
END:VCALENDAR
