BEGIN:VCALENDAR
X-WR-TIMEZONE:Europe/Berlin
X-WR-CALNAME:rbb-Kalender
VERSION:2.0
METHOD:PUBLISH
CALSCALE:GREGORIAN
PRODID:rbb-CMS DAY
BEGIN:VEVENT
CLASS:PUBLIC
URL:http://www.rbb-online.de/content/rbb/rbb/klartext/ueber_den_tag_hinaus/bildung/ueberforderte_schueler.html
DTEND:20110316T221500
DTSTART:20110316T221500
UID:/content/rbb/rbb/klartext/ueber_den_tag_hinaus/bildung/ueberforderte_schueler
DTSTAMP:20140406T070438
DESCRIPTION:Gestresste Schüler, gestresste Eltern - dies ist für viele Berliner das Ergebnis der Einführung des Turbo-Abiturs nach 12 Jahren. Deshalb fordern einige Berliner Eltern nun in einer Online-Petition: „Zurück zu 13 Jahren an Berliner Gymnasien!" Innerhalb eines Monats bekamen sie tausendfache Zustimmung. Dabei können Berliner Schüler das Abi noch immer in der alten Geschwindigkeit machen: an den Sekundarschulen. Doch die Vorbehalte gegen den neuen Schultyp sind riesig. Ist nur das Abitur am "guten alten Gymnasium" so richtig wertvoll? In Brandenburg sieht man die Debatte übrigens wesentlich entspannter.\n
SUMMARY:Überforderte Schüler, gestresste Eltern - erneuter Streit ums Turbo-Abi
END:VEVENT
END:VCALENDAR
