BEGIN:VCALENDAR
X-WR-TIMEZONE:Europe/Berlin
X-WR-CALNAME:rbb-Kalender
VERSION:2.0
METHOD:PUBLISH
CALSCALE:GREGORIAN
PRODID:rbb-CMS DAY
BEGIN:VEVENT
CLASS:PUBLIC
URL:http://www.rbb-online.de/content/rbb/rbb/klartext/ueber_den_tag_hinaus/diktaturen/langlebig_legenden.html
DTEND:20030617T220500
DTSTART:20030617T220500
UID:/content/rbb/rbb/klartext/ueber_den_tag_hinaus/diktaturen/langlebig_legenden
DTSTAMP:20140406T065956
DESCRIPTION:Legenden halten sich hartnäckig, auch in Brandenburg an der Havel: der Volksaufstand am 17. Juni 1953 sei gesteuert gewesen von "westlichen Provokateuren", mehrere Busse mit gut gekleideten Provokateuren seien von West-Berlin nach Brandenburg gefahren, um die Arbeiter im Stahl- und Walzwerk und anderswo aufzuhetzen. Nur wenige Zeitzeugen erzählen, wie es wirklich war. Auch umfangreiche Dokumente des Landeshauptarchivs bestätigen, dass viele Menschen in der DDR die Nase voll hatten von Normerhöhungen und politischer Willkür der SED-Funktionäre.
SUMMARY:Langlebig - Legenden zum Volksaufstand
END:VEVENT
END:VCALENDAR
