BEGIN:VCALENDAR
X-WR-TIMEZONE:Europe/Berlin
X-WR-CALNAME:rbb-Kalender
VERSION:2.0
METHOD:PUBLISH
CALSCALE:GREGORIAN
PRODID:rbb-CMS DAY
BEGIN:VEVENT
CLASS:PUBLIC
URL:http://www.rbb-online.de/content/rbb/rbb/klartext/ueber_den_tag_hinaus/diktaturen/stasi_verdacht___laxe.html
DTEND:20090701T220500
DTSTART:20090701T220500
UID:/content/rbb/rbb/klartext/ueber_den_tag_hinaus/diktaturen/stasi_verdacht___laxe
DTSTAMP:20140406T064618
DESCRIPTION:Als der Verdacht laut wurde, dass Andreas Schuster, Bundesvorstandsmitglied und zugleich Landesvorsitzender der Brandenburger Gewerkschaft der Polizei, als IM für die Staatssicherheit tätig gewesenen sein soll, wehrte der GDP-Bundesvorstand ab: Gewählte Funktionäre seien durch die Innenministerien und Mitarbeiter durch die GdP selbst überprüft worden. Doch KLARTEXT-Recherchen ergaben: Auch gegen einen anderen leitenden Mitarbeiter des Bundesvorstands besteht IM-Verdacht.
SUMMARY:STASI-Verdacht – Laxe Aufarbeitung bei Gewerkschaft der Polizei
END:VEVENT
END:VCALENDAR
