BEGIN:VCALENDAR
X-WR-TIMEZONE:Europe/Berlin
X-WR-CALNAME:rbb-Kalender
VERSION:2.0
METHOD:PUBLISH
CALSCALE:GREGORIAN
PRODID:rbb-CMS DAY
BEGIN:VEVENT
CLASS:PUBLIC
URL:http://www.rbb-online.de/content/rbb/rbb/klartext/ueber_den_tag_hinaus/diktaturen/strittmatter_im_schatten.html
DTEND:20080702T220500
DTSTART:20080702T220500
UID:/content/rbb/rbb/klartext/ueber_den_tag_hinaus/diktaturen/strittmatter_im_schatten
DTSTAMP:20140406T065324
DESCRIPTION:Erwin Strittmatter, einer der bedeutendsten Schriftsteller der DDR. Nach der Wende wurde bekannt, dass er der Stasi zugearbeitet hat. Jetzt haben Historiker herausgefunden, dass er im 2. Weltkrieg Mitglied der berüchtigten Polizeibataillone war. In Spremberg wird nun darüber gestritten, ob er weiter als Namensgeber einer Schule und einer Straße fungieren soll.
SUMMARY:Strittmatter im Schatten seiner Vergangenheit
END:VEVENT
END:VCALENDAR
