BEGIN:VCALENDAR
X-WR-TIMEZONE:Europe/Berlin
X-WR-CALNAME:rbb-Kalender
VERSION:2.0
METHOD:PUBLISH
CALSCALE:GREGORIAN
PRODID:rbb-CMS DAY
BEGIN:VEVENT
CLASS:PUBLIC
URL:http://www.rbb-online.de/content/rbb/rbb/klartext/ueber_den_tag_hinaus/diktaturen/trotz_vorstrafe_wegen.html
DTEND:20110511T221500
DTSTART:20110511T221500
UID:/content/rbb/rbb/klartext/ueber_den_tag_hinaus/diktaturen/trotz_vorstrafe_wegen
DTSTAMP:20140406T070822
DESCRIPTION:Nach Recherchen des rbb-Politikmagazins KLARTEXT erhielt eine ehemalige Staatsanwältin der DDR trotz einer Vorstrafe wegen Rechtsbeugung im Jahre 2000 eine Anwaltszulassung in Brandenburg. Ungehindert konnte sie danach noch jahrelang in Cottbus als Rechtsanwältin arbeiten. Vom Rechtsbeuger zum Rechtspfleger - und das in einem Rechtsstaat? Experten sind empört.\n
SUMMARY:Trotz Vorstrafe wegen Rechtsbeugung Anwaltszulassung für ehemalige DDR-Staatsanwältin
END:VEVENT
END:VCALENDAR
