BEGIN:VCALENDAR
X-WR-TIMEZONE:Europe/Berlin
X-WR-CALNAME:rbb-Kalender
VERSION:2.0
METHOD:PUBLISH
CALSCALE:GREGORIAN
PRODID:rbb-CMS DAY
BEGIN:VEVENT
CLASS:PUBLIC
URL:http://www.rbb-online.de/content/rbb/rbb/klartext/ueber_den_tag_hinaus/diktaturen/umwandlung_der_birthler_behoerde.html
DTEND:20041215T220500
DTSTART:20041215T220500
UID:/content/rbb/rbb/klartext/ueber_den_tag_hinaus/diktaturen/umwandlung_der_birthler_behoerde
DTSTAMP:20140406T070607
DESCRIPTION:Bundesinnenminister Schily will sie nicht mehr in seiner Zuständigkeit haben, die Behörde für die Stasiunterlagen. Denn von Anfang an gab es Ärger damit. Ihr erster Chef, Joachim Gauck, mischte sich immer wieder in die politische Diskussion um die Aufarbeitung der DDR-Vergangenheit. Zuletzt machte der Streit um die Kohlakten Schlagzeilen. Betroffene und Bürger-rechtler fürchten die Abwicklung einer einmaligen Behörde.
SUMMARY:Umwandlung der Birthler-Behörde in eine Stiftung - wird eine Institution politisch kaltgestellt?
END:VEVENT
END:VCALENDAR
