BEGIN:VCALENDAR
X-WR-TIMEZONE:Europe/Berlin
X-WR-CALNAME:rbb-Kalender
VERSION:2.0
METHOD:PUBLISH
CALSCALE:GREGORIAN
PRODID:rbb-CMS DAY
BEGIN:VEVENT
CLASS:PUBLIC
URL:http://www.rbb-online.de/content/rbb/rbb/klartext/ueber_den_tag_hinaus/diktaturen/ungebrochene_karrieren.html
DTEND:20090603T222000
DTSTART:20090603T222000
UID:/content/rbb/rbb/klartext/ueber_den_tag_hinaus/diktaturen/ungebrochene_karrieren
DTSTAMP:20140406T070044
DESCRIPTION:Trotz Stasi-Überprüfung wurden nach der Wende hunderte ehemalige hauptamtliche und inoffizielle Mitarbeiter des Ministeriums für Staatssicherheit in den Brandenburger Polizeidienst übernommen. Nach KLARTEXT vorliegenden Akten der Birthler-Behörde waren darunter auch Mitarbeiter, die für die Verfolgung und Inhaftierung politisch Andersdenkender in der DDR verantwortlich waren.
SUMMARY:Ungebrochene Karrieren - Hunderte Ex-Stasi-Mitarbeiter im Dienst der Brandenburger Polizei
END:VEVENT
END:VCALENDAR
