BEGIN:VCALENDAR
X-WR-TIMEZONE:Europe/Berlin
X-WR-CALNAME:rbb-Kalender
VERSION:2.0
METHOD:PUBLISH
CALSCALE:GREGORIAN
PRODID:rbb-CMS DAY
BEGIN:VEVENT
CLASS:PUBLIC
URL:http://www.rbb-online.de/content/rbb/rbb/klartext/ueber_den_tag_hinaus/diktaturen/walter_linse_umstrittener.html
DTEND:20071205T220500
DTSTART:20071205T220500
UID:/content/rbb/rbb/klartext/ueber_den_tag_hinaus/diktaturen/walter_linse_umstrittener
DTSTAMP:20140406T065028
DESCRIPTION:Als im Sommer der Förderverein der Gedenkstätte Hohenschönhausen den „Dr. Walter Linse Preis“ für Persönlichkeiten auslobte, die sich in besonderer Weise um die Aufarbeitung der SED-Diktatur verdient gemacht haben, brach nach wenigen Tagen ein Sturm der Entrüstung aus. Während Linse, der Anfang der 50er Jahre aus West-Berlin verschleppt und später durch die Sowjets als Agent hingerichtet wurde, lange Zeit als Widerstandkämpfer galt, hieß es nun, er sei als aktiver Nazi für die so genannten Arisierungen in der Industrie- und Handelskammer Chemnitz verantwortlich gewesen. Wer war Walter Linse, welches Leben führte er in zwei deutschen Diktaturen?
SUMMARY:Walter Linse – Umstrittener Namensgeber
END:VEVENT
END:VCALENDAR
