BEGIN:VCALENDAR
X-WR-TIMEZONE:Europe/Berlin
X-WR-CALNAME:rbb-Kalender
VERSION:2.0
METHOD:PUBLISH
CALSCALE:GREGORIAN
PRODID:rbb-CMS DAY
BEGIN:VEVENT
CLASS:PUBLIC
URL:http://www.rbb-online.de/content/rbb/rbb/klartext/ueber_den_tag_hinaus/gesundheit/alarmierend_hausaerztenotstand.html
DTEND:20020402T220500
DTSTART:20020402T220500
UID:/content/rbb/rbb/klartext/ueber_den_tag_hinaus/gesundheit/alarmierend_hausaerztenotstand
DTSTAMP:20140406T070806
DESCRIPTION:Die ambulante Gesundheitsbetreuung läuft auch in Brandenburg ungebremst auf den Kollaps zu. In den nächsten fünf Jahren wird ein Drittel der niedergelassenen Ärzte in Rente gehen, und junge Ärzte, die die Hausarztpraxen, besonders in den Randgebieten übernehmen möchten, sind kaum in Sicht. Ohne zusätzliche finanzielle Unterstützung werde sich dieser Trend nicht umkehren lassen, so Experten. KLARTEXT zeigt, am Beispiel Guben, wie dort wo immer weniger Allgemeinmediziner arbeiten, die hausärztliche Versorgung leidet.
SUMMARY:Alarmierend - Hausärztenotstand in Brandenburg
END:VEVENT
END:VCALENDAR
