BEGIN:VCALENDAR
X-WR-TIMEZONE:Europe/Berlin
X-WR-CALNAME:rbb-Kalender
VERSION:2.0
METHOD:PUBLISH
CALSCALE:GREGORIAN
PRODID:rbb-CMS DAY
BEGIN:VEVENT
CLASS:PUBLIC
URL:http://www.rbb-online.de/content/rbb/rbb/klartext/ueber_den_tag_hinaus/gesundheit/fehlende_amtsaerzte.html
DTEND:20070321T220500
DTSTART:20070321T220500
UID:/content/rbb/rbb/klartext/ueber_den_tag_hinaus/gesundheit/fehlende_amtsaerzte
DTSTAMP:20140406T070219
DESCRIPTION:Ob Neukölln oder Friedrichshain – es fehlt an Amtsärzten. Der Bezirk schiebt die Schuld auf die Sparpolitik des Senats, der Senat spricht von der Unfähigkeit des Bezirks, offene Stellen zu besetzen. Leidtragende sind die Kinder, denn viele gesetzlich vorgeschriebene Untersuchungen werden schon lange nicht mehr durchgeführt.
SUMMARY:Fehlende Amtsärzte: Keine Pflichtuntersuchungen für Kinder
END:VEVENT
END:VCALENDAR
