BEGIN:VCALENDAR
X-WR-TIMEZONE:Europe/Berlin
X-WR-CALNAME:rbb-Kalender
VERSION:2.0
METHOD:PUBLISH
CALSCALE:GREGORIAN
PRODID:rbb-CMS DAY
BEGIN:VEVENT
CLASS:PUBLIC
URL:http://www.rbb-online.de/content/rbb/rbb/klartext/ueber_den_tag_hinaus/gesundheit/heroin_auf_rezept.html
DTEND:20070307T220500
DTSTART:20070307T220500
UID:/content/rbb/rbb/klartext/ueber_den_tag_hinaus/gesundheit/heroin_auf_rezept
DTSTAMP:20140406T064756
DESCRIPTION:Drogenabhängige sind krank! Lange hat die Politik gebraucht, diese Tatsache zu akzeptieren. Seit 2002 wurden in einem Modellprojekt Heroinabhängige nach einer neuen Methode behandelt: mit Diamorphin, synthetischem Heroin. Obwohl die Ergebnisse positiv sind, stoppt die Unions-Fraktion im Bundestag die Ausweitung des Projektes und setzt weiter auf Methadon. Heroin auf Rezept – für Drogenpolitiker der Union noch immer ein Tabu-Bruch.
SUMMARY:Heroin auf Rezept: Unionsparteien gegen erfolgreiche Drogentherapie
END:VEVENT
END:VCALENDAR
