BEGIN:VCALENDAR
X-WR-TIMEZONE:Europe/Berlin
X-WR-CALNAME:rbb-Kalender
VERSION:2.0
METHOD:PUBLISH
CALSCALE:GREGORIAN
PRODID:rbb-CMS DAY
BEGIN:VEVENT
CLASS:PUBLIC
URL:http://www.rbb-online.de/content/rbb/rbb/klartext/ueber_den_tag_hinaus/integration_und_migration/ausstossen_reicht.html
DTEND:20050302T220500
DTSTART:20050302T220500
UID:/content/rbb/rbb/klartext/ueber_den_tag_hinaus/integration_und_migration/ausstossen_reicht
DTSTAMP:20140406T070859
DESCRIPTION:Entsetzen über den jüngsten Berliner Ehrenmord – Entsetzen auch über die Legitimierung der Tat durch drei  Berliner Schüler. Für die Mehrheit der türkischen und arabischen Jugendlichen ist es undenkbar, die eigene Schwester zu töten. Doch meinen viele: die Ehre der Familie liegt zwischen den Beinen der Töchter' - wird diese Ehre vermeintlich verletzt, ist Strafe unausweichlich.
SUMMARY:Ausstoßen reicht doch – wie Berliner Schüler über Frauen und Ehre denken
END:VEVENT
END:VCALENDAR
